BEGIN:VCALENDAR
VERSION:2.0
PRODID:0bf9e7d4-d04c-4456-b6c2-8e88c3194b11
CALSCALE:GREGORIAN
METHOD:PUBLISH
X-WR-CALDESC:Ein zweitägiges Symposium über Feuerökologien und Klang
X-WR-CALNAME:Burning Silence
BEGIN:VEVENT
SUMMARY:Burning Silence
DTSTART:20260411T120000
DTEND:20260411T210000
DTSTAMP:20260423T105323Z
UID:cd8831cb7f1a75ae5346af817eaea94d
CATEGORIES:
URL:https://spore-initiative.org/de/programm-in-berlin/besuchen-und-mitmac
 hen/burning-silence-tag-i
END:VEVENT
END:VCALENDAR
