BEGIN:VCALENDAR
VERSION:2.0
PRODID:a8e697f6-f274-40d3-94f1-0b960f9a787f
CALSCALE:GREGORIAN
METHOD:PUBLISH
X-WR-CALDESC:Workshop und Gespräch
X-WR-CALNAME:Murilpaz: Eine von Lenca-Frauen geführte Indigene Bewegung a
 us La Paz in Honduras
BEGIN:VEVENT
SUMMARY:Murilpaz: Eine von Lenca-Frauen geführte Indigene Bewegung aus La
  Paz in Honduras
DTSTART:20260401T170000
DTEND:20260401T200000
DTSTAMP:20260423T104556Z
UID:b4f09c953be1c2b3e869b05c3dfd82f0
CATEGORIES:
URL:https://spore-initiative.org/de/programm-in-berlin/besuchen-und-mitmac
 hen/murilpaz-eine-von-lenca-frauen-gefuhrte-indigene-bewegung-aus-la-paz-i
 n-honduras
END:VEVENT
END:VCALENDAR
