BEGIN:VCALENDAR
VERSION:2.0
PRODID:94ae34c0-3f70-4478-a09f-3fc444864e91
CALSCALE:GREGORIAN
METHOD:PUBLISH
X-WR-CALDESC:Eine Gruppenausstellung mit Werken aus der Sammlung
  der Spore Initiative
X-WR-CALNAME:Verbindungen – Austellungsseröffnung
BEGIN:VEVENT
SUMMARY:Verbindungen – Austellungsseröffnung
DTSTART:20260329T163000
DTEND:20260329T200000
DTSTAMP:20260423T122820Z
UID:a93110d7bc963541f997400ca1152c57
CATEGORIES:
URL:https://spore-initiative.org/de/programm-in-berlin/besuchen-und-mitmac
 hen/verbindungen-austellungsseroffnung
END:VEVENT
END:VCALENDAR
