BEGIN:VCALENDAR
VERSION:2.0
PRODID:1f09ad2e-668c-4324-88a2-5cf03402660e
CALSCALE:GREGORIAN
METHOD:PUBLISH
X-WR-CALDESC:Filmvorführung mit anschließendem Gespräch
X-WR-CALNAME:ANTI-COLONIAL FILM NIGHT mit AfgActivistCollective: Osama
BEGIN:VEVENT
SUMMARY:ANTI-COLONIAL FILM NIGHT mit AfgActivistCollective: Osama
DTSTART:20260317T183000
DTEND:20260317T210000
DTSTAMP:20260423T122502Z
UID:32aa638fca74c489a6ee3eb649ee1891
CATEGORIES:
URL:https://spore-initiative.org/de/programm-in-berlin/besuchen-und-mitmac
 hen/anti-colonial-film-night-mit-afgactivistcollective-Osama
END:VEVENT
END:VCALENDAR
