BEGIN:VCALENDAR
VERSION:2.0
PRODID:a997cd49-9330-4b54-90e4-29428899c41c
CALSCALE:GREGORIAN
METHOD:PUBLISH
X-WR-CALDESC:Eine Workshop-Reihe mit Schreib-\, Klang- und Bewegungsworksh
 ops
X-WR-CALNAME:Aktivistisches Klang-Storytelling – Workshop-Reihe
BEGIN:VEVENT
SUMMARY:Aktivistisches Klang-Storytelling – Workshop-Reihe
DTSTART:20260801T170000
DTEND:20260801T200000
DTSTAMP:20260423T135954Z
UID:32d620531a62571286d1972cfbabcc0a
CATEGORIES:
URL:https://spore-initiative.org/de/programm-in-berlin/besuchen-und-mitmac
 hen/aktivistisches-klang-storytelling
END:VEVENT
BEGIN:VEVENT
SUMMARY:Aktivistisches Klang-Storytelling – Workshop-Reihe
DTSTART:20260704T170000
DTEND:20260704T200000
DTSTAMP:20260423T135954Z
UID:696d25a54cf58a2dfb486216d4562382
CATEGORIES:
URL:https://spore-initiative.org/de/programm-in-berlin/besuchen-und-mitmac
 hen/aktivistisches-klang-storytelling
END:VEVENT
BEGIN:VEVENT
SUMMARY:Aktivistisches Klang-Storytelling – Workshop-Reihe
DTSTART:20260531T170000
DTEND:20260531T200000
DTSTAMP:20260423T135954Z
UID:d178956157b9896b4a3f7976dd63ffd9
CATEGORIES:
URL:https://spore-initiative.org/de/programm-in-berlin/besuchen-und-mitmac
 hen/aktivistisches-klang-storytelling
END:VEVENT
BEGIN:VEVENT
SUMMARY:Aktivistisches Klang-Storytelling – Workshop-Reihe
DTSTART:20260502T170000
DTEND:20260502T200000
DTSTAMP:20260423T135954Z
UID:28d597ab762fb866517b5f554e31a847
CATEGORIES:
URL:https://spore-initiative.org/de/programm-in-berlin/besuchen-und-mitmac
 hen/aktivistisches-klang-storytelling
END:VEVENT
BEGIN:VEVENT
SUMMARY:Aktivistisches Klang-Storytelling – Workshop-Reihe
DTSTART:20260307T170000
DTEND:20260307T200000
DTSTAMP:20260423T135954Z
UID:ac4b4d81bc1a53292ec0d676905ceed7
CATEGORIES:
URL:https://spore-initiative.org/de/programm-in-berlin/besuchen-und-mitmac
 hen/aktivistisches-klang-storytelling
END:VEVENT
END:VCALENDAR
