BEGIN:VCALENDAR
VERSION:2.0
PRODID:38b2ac44-5e28-4e0d-8bf3-b35e18dbbdaa
CALSCALE:GREGORIAN
METHOD:PUBLISH
X-WR-CALDESC:Screening dreier dokumentarischer Kurzfilme mit anschließend
 er Podiumsdiskussion.
X-WR-CALNAME:Decolonize Law
BEGIN:VEVENT
SUMMARY:Decolonize Law
DTSTART:20260312T180000
DTEND:20260312T210000
DTSTAMP:20260423T122651Z
UID:1c1fbc1a8db4d16a6958fa828f30bf0f
CATEGORIES:
URL:https://spore-initiative.org/de/programm-in-berlin/besuchen-und-mitmac
 hen/spore-hosts-decolonize-law
END:VEVENT
END:VCALENDAR
