BEGIN:VCALENDAR
VERSION:2.0
PRODID:735650df-f35e-4587-9b8e-4fc703be1ce4
CALSCALE:GREGORIAN
METHOD:PUBLISH
X-WR-CALDESC:Ein Dialog über Archive und Erinnerungen – Filmvorführung
 \, Performance\, Lesung und Gespräch
X-WR-CALNAME:Woran erinnern die Bilder? Argentinien: 50 Jahre nach dem Mil
 itärputsch
BEGIN:VEVENT
SUMMARY:Woran erinnern die Bilder? Argentinien: 50 Jahre nach dem Militär
 putsch
DTSTART:20260306T173000
DTEND:20260306T193000
DTSTAMP:20260423T104459Z
UID:44500f19c3cadf7b7f0b5345160a7718
CATEGORIES:
URL:https://spore-initiative.org/de/programm-in-berlin/besuchen-und-mitmac
 hen/spore-hosts-was-erinnern-bilder
END:VEVENT
END:VCALENDAR
