BEGIN:VCALENDAR
VERSION:2.0
PRODID:94fe2cb4-8693-42c5-ae0f-f10efc5d3474
CALSCALE:GREGORIAN
METHOD:PUBLISH
X-WR-CALDESC:Eine kritische Diskussion über Ziele und Folgen von politisc
 hen\, wirtschaftlichen und gesellschaftlichen Strafmaßnahmen
X-WR-CALNAME:Zeit zu reden international: Sanktionen und Boykotte als poli
 tische Druckmittel
BEGIN:VEVENT
SUMMARY:Zeit zu reden international: Sanktionen und Boykotte als politisch
 e Druckmittel
DTSTART:20260219T190000
DTEND:20260219T220000
DTSTAMP:20260422T105454Z
UID:96af992f21458f5c4ee3f9e353e87861
CATEGORIES:
URL:https://spore-initiative.org/de/programm-in-berlin/besuchen-und-mitmac
 hen/spore-hosts-zeit-zu-reden-international-sanktionen-und-boykotte-als-po
 litische-druckmittel
END:VEVENT
END:VCALENDAR
