BEGIN:VCALENDAR
VERSION:2.0
PRODID:6ecce3ed-64d2-485e-8b2e-c3b12422847e
CALSCALE:GREGORIAN
METHOD:PUBLISH
X-WR-CALDESC:Eine Diskussionsrunde\, zum gemeinsamen Austauschen und Refle
 ktieren
X-WR-CALNAME:„Unsere Stadt\, unsere Friedhöfe – wer ist sichtbar\, we
 r nicht?“
BEGIN:VEVENT
SUMMARY:„Unsere Stadt\, unsere Friedhöfe – wer ist sichtbar\, wer nic
 ht?“
DTSTART:20260214T160000
DTEND:20260214T180000
DTSTAMP:20260419T142301Z
UID:07142b0db48b6a27ae9b8f6bd15e3f87
CATEGORIES:
URL:https://spore-initiative.org/de/programm-in-berlin/besuchen-und-mitmac
 hen/unsere-stadt-unsere-friedhofe-wer-ist-sichtbar-wer-nicht
END:VEVENT
END:VCALENDAR
