BEGIN:VCALENDAR
VERSION:2.0
PRODID:5f4c7a27-7d59-4b51-8184-13df30c7a89f
CALSCALE:GREGORIAN
METHOD:PUBLISH
X-WR-CALDESC:Somatischer Workshop
X-WR-CALNAME:Kollektive Fürsorgegruppe für den Iran – حلقه‌ی م
 راقبت و همدلی
BEGIN:VEVENT
SUMMARY:Kollektive Fürsorgegruppe für den Iran – حلقه‌ی مرا
 قبت و همدلی
DTSTART:20260201T160000
DTEND:20260201T190000
DTSTAMP:20260422T155644Z
UID:eafed2bc29741098cc1b381998d3c575
CATEGORIES:
URL:https://spore-initiative.org/de/programm-in-berlin/besuchen-und-mitmac
 hen/collective-care-circle-for-iran-hlkh-mrkbt-o-hmdl
END:VEVENT
END:VCALENDAR
