BEGIN:VCALENDAR
VERSION:2.0
PRODID:4e9b5b36-418a-4b98-bf51-642afcac3533
CALSCALE:GREGORIAN
METHOD:PUBLISH
X-WR-CALDESC:Südasiatische Filmwoche – Filmvorführungen\, Gespräche u
 nd Speisen
X-WR-CALNAME:Subkontinental
BEGIN:VEVENT
SUMMARY:Subkontinental
DTSTART:20260207T170000
DTEND:20260207T213000
DTSTAMP:20260423T104553Z
UID:47c71682cffcd01069c8d71c014c9992
CATEGORIES:
URL:https://spore-initiative.org/de/programm-in-berlin/besuchen-und-mitmac
 hen/offset
END:VEVENT
BEGIN:VEVENT
SUMMARY:Subkontinental
DTSTART:20260130T180000
DTEND:20260130T230000
DTSTAMP:20260423T104553Z
UID:e5bad011ec710dfff1f588b76be55e38
CATEGORIES:
URL:https://spore-initiative.org/de/programm-in-berlin/besuchen-und-mitmac
 hen/offset
END:VEVENT
END:VCALENDAR
