BEGIN:VCALENDAR
VERSION:2.0
PRODID:bb543836-d55e-4dc0-8a78-e3a5b77d3409
CALSCALE:GREGORIAN
METHOD:PUBLISH
X-WR-CALDESC:Filmvorführung und Podiumsdiskussion
X-WR-CALNAME:Protest under Pressure
BEGIN:VEVENT
SUMMARY:Protest under Pressure
DTSTART:20260117T180000
DTEND:20260117T220000
DTSTAMP:20260423T154336Z
UID:059bb5ebbf92d16b85f463b5bcdee277
CATEGORIES:
URL:https://spore-initiative.org/de/programm-in-berlin/besuchen-und-mitmac
 hen/protest-under-pressure
END:VEVENT
END:VCALENDAR
