BEGIN:VCALENDAR
VERSION:2.0
PRODID:cd7d2db1-1c7e-4922-849e-e48063a742ab
CALSCALE:GREGORIAN
METHOD:PUBLISH
X-WR-CALDESC:Sumud und klinische Arbeit in höchster Not mit Samah Jabr 
 – Eine Podiumsdiskussion
X-WR-CALNAME:Krieg\, transgenerationales Trauma\, Landraub und andauernder
  Siedlerkolonialismus
BEGIN:VEVENT
SUMMARY:Krieg\, transgenerationales Trauma\, Landraub und andauernder Sied
 lerkolonialismus
DTSTART:20260128T190000
DTEND:20260128T203000
DTSTAMP:20260420T134209Z
UID:7b7e16a56a481ca04bbc5e03253d8a0a
CATEGORIES:
URL:https://spore-initiative.org/de/programm-in-berlin/besuchen-und-mitmac
 hen/krieg-transgenerationales-trauma-landraub-und-andauernder-siedlerkolon
 ialismus
END:VEVENT
END:VCALENDAR
