BEGIN:VCALENDAR
VERSION:2.0
PRODID:c03e9993-6777-42c4-af07-5c6d2baeb617
CALSCALE:GREGORIAN
METHOD:PUBLISH
X-WR-CALDESC:Eine Diskussion über mediale Angriffe\, drohende Kürzungen 
 und politische Einflussnahme
X-WR-CALNAME:Zeit zu reden: Zivilgesellschaft unter Druck
BEGIN:VEVENT
SUMMARY:Zeit zu reden: Zivilgesellschaft unter Druck
DTSTART:20260122T190000
DTEND:20260122T220000
DTSTAMP:20260422T174947Z
UID:a6ff7df7d794250b9be2806eeaba00e2
CATEGORIES:
URL:https://spore-initiative.org/de/programm-in-berlin/besuchen-und-mitmac
 hen/zeit-zu-reden-zivilgesellschaft-unter-druck
END:VEVENT
END:VCALENDAR
