BEGIN:VCALENDAR
VERSION:2.0
PRODID:68e73c5d-5bc4-4e5e-ad18-e4b1091dc4fb
CALSCALE:GREGORIAN
METHOD:PUBLISH
X-WR-CALDESC:Gemeinsames Mittagessen
X-WR-CALNAME:Feijoada von Quilomboallee
BEGIN:VEVENT
SUMMARY:Feijoada von Quilomboallee
DTSTART:20251101T123000
DTEND:20251101T140000
DTSTAMP:20260425T224334Z
UID:74d376be4922cfcaf915d5d6ff5411f2
CATEGORIES:
URL:https://spore-initiative.org/de/programm-in-berlin/besuchen-und-mitmac
 hen/feijoada-von-quilomboallee
END:VEVENT
END:VCALENDAR
