BEGIN:VCALENDAR
VERSION:2.0
PRODID:6bf068ea-5a9e-4228-81eb-51de223762b8
CALSCALE:GREGORIAN
METHOD:PUBLISH
X-WR-CALDESC:Kurzfilme
X-WR-CALNAME:Jenseits von Eigentum: Mit der Erde denken
BEGIN:VEVENT
SUMMARY:Jenseits von Eigentum: Mit der Erde denken
DTSTART:20251101T140000
DTEND:20251101T153000
DTSTAMP:20260425T224836Z
UID:0c5b2914ba0c7b2f0568dea2bb346b20
CATEGORIES:
URL:https://spore-initiative.org/de/programm-in-berlin/besuchen-und-mitmac
 hen/jenseits-von-eigentum-mit-der-erde-denken
END:VEVENT
END:VCALENDAR
