BEGIN:VCALENDAR
VERSION:2.0
PRODID:778c2dc2-a36f-4db1-a4aa-bff88ce42518
CALSCALE:GREGORIAN
METHOD:PUBLISH
X-WR-CALDESC:Gesprächsrunde
X-WR-CALNAME:Neue Landschaften säen
BEGIN:VEVENT
SUMMARY:Neue Landschaften säen
DTSTART:20251101T160000
DTEND:20251101T173000
DTSTAMP:20260425T225345Z
UID:0b703e09cb7659bbb0cec320ab0b9a53
CATEGORIES:
URL:https://spore-initiative.org/de/programm-in-berlin/besuchen-und-mitmac
 hen/neue-landschaften-saen
END:VEVENT
END:VCALENDAR
