BEGIN:VCALENDAR
VERSION:2.0
PRODID:cc294429-2a9e-4f40-9b19-f38134a41668
CALSCALE:GREGORIAN
METHOD:PUBLISH
X-WR-CALDESC:Wir zeigen Ausschnitte des Films “A Mãe de Todas as Lutas
 ” mit einem anschließendes Gespräch
X-WR-CALNAME:Grammatik des Bodens
BEGIN:VEVENT
SUMMARY:Grammatik des Bodens
DTSTART:20251031T193000
DTEND:20251031T213000
DTSTAMP:20260425T224119Z
UID:fca1eca542efb4e7e65e8e784db8c609
CATEGORIES:
URL:https://spore-initiative.org/de/programm-in-berlin/besuchen-und-mitmac
 hen/grammatik-des-bodens
END:VEVENT
END:VCALENDAR
