BEGIN:VCALENDAR
VERSION:2.0
PRODID:293fcbf1-ad95-4d4a-8310-c1ae1bf083ea
CALSCALE:GREGORIAN
METHOD:PUBLISH
X-WR-CALDESC:Eine kritische Diskussion über einen tabuisierten und releva
 nten Völkerrechtsbegriff
X-WR-CALNAME:Zeit zu reden: Genozid – Geschichte\, Definition\, Verwendu
 ng
BEGIN:VEVENT
SUMMARY:Zeit zu reden: Genozid – Geschichte\, Definition\, Verwendung
DTSTART:20251113T190000
DTEND:20251113T220000
DTSTAMP:20260422T211332Z
UID:42260942a445a5f3fe3d4d56715cbabc
CATEGORIES:
URL:https://spore-initiative.org/de/programm-in-berlin/besuchen-und-mitmac
 hen/zeit-zu-reden-genozid-geschichte-definition-verwendung
END:VEVENT
END:VCALENDAR
