BEGIN:VCALENDAR
VERSION:2.0
PRODID:2a9c5d81-b42b-4712-b682-8e4a14641b67
CALSCALE:GREGORIAN
METHOD:PUBLISH
X-WR-CALDESC:Ein kreativer Workshop für Kinder zwischen 6 und 10 Jahren.
X-WR-CALNAME:Julian ist eine Meerjungfrau
BEGIN:VEVENT
SUMMARY:Julian ist eine Meerjungfrau
DTSTART:20251030T163000
DTEND:20251030T183000
DTSTAMP:20260422T155822Z
UID:b0cbfdf632c331a2c257eb090403876b
CATEGORIES:
URL:https://spore-initiative.org/de/programm-in-berlin/besuchen-und-mitmac
 hen/julian-ist-eine-meerjungfrau
END:VEVENT
END:VCALENDAR
