BEGIN:VCALENDAR
VERSION:2.0
PRODID:c6beeffb-5d63-4534-8809-3e3e597fd07b
CALSCALE:GREGORIAN
METHOD:PUBLISH
X-WR-CALDESC:Ein Abend der feministischen Ökonomie. Keynote und Podiumsdi
 skussion mit anschließendem Publikumsgespräch.
X-WR-CALNAME:Wen Kümmerts? Wer Machts?
BEGIN:VEVENT
SUMMARY:Wen Kümmerts? Wer Machts?
DTSTART:20251017T150000
DTEND:20251017T210000
DTSTAMP:20260422T230603Z
UID:db0b64b16b95cb8e428f32a128501133
CATEGORIES:
URL:https://spore-initiative.org/de/programm-in-berlin/besuchen-und-mitmac
 hen/wen-kummerts-wer-machts
END:VEVENT
END:VCALENDAR
