BEGIN:VCALENDAR
VERSION:2.0
PRODID:41438302-219d-49d5-8bac-b1235e6d6070
CALSCALE:GREGORIAN
METHOD:PUBLISH
X-WR-CALDESC:Eine Diskussion über Strategien gegen Entmenschlichung und R
 adikalisierung
X-WR-CALNAME:Zeit zu reden: Missverstanden\, diffamiert\, kriminalisiert 
 – Palästinasolidarität in Deutschland
BEGIN:VEVENT
SUMMARY:Zeit zu reden: Missverstanden\, diffamiert\, kriminalisiert – Pa
 lästinasolidarität in Deutschland
DTSTART:20251016T190000
DTEND:20251016T220000
DTSTAMP:20260422T155742Z
UID:5d9113573ab60e0c40568e13e330fde5
CATEGORIES:
URL:https://spore-initiative.org/de/programm-in-berlin/besuchen-und-mitmac
 hen/zeit-zu-reden-missverstanden-diffamiert-kriminalisiert-palastinasolida
 ritat-in-deutschland
END:VEVENT
END:VCALENDAR
