BEGIN:VCALENDAR
VERSION:2.0
PRODID:fe9315fd-4d84-4dfd-9ab0-945efbf6412c
CALSCALE:GREGORIAN
METHOD:PUBLISH
X-WR-CALDESC:Ein offener Austausch zwischen Expert*innen für Menschenrech
 te und Aktivist*innen\, Pädagog*innen\, Gemeinschaftsorganisator*innen\, 
 Künstler*innen\, Kulturschaffenden und Vertreter*innen der Zivilgesellsch
 aft
X-WR-CALNAME:Land\, Recht und Hierarchien des Extraktivismus und der Ausbe
 utung
BEGIN:VEVENT
SUMMARY:Land\, Recht und Hierarchien des Extraktivismus und der Ausbeutung
DTSTART:20250909T170000
DTEND:20250909T200000
DTSTAMP:20260422T162220Z
UID:fce2fe553763f25e09641f75aad23608
CATEGORIES:
URL:https://spore-initiative.org/de/programm-in-berlin/besuchen-und-mitmac
 hen/land-recht-und-hierarchien-des-extraktivismus-und-der-ausbeutung
END:VEVENT
END:VCALENDAR
