BEGIN:VCALENDAR
VERSION:2.0
PRODID:b3017b5b-6799-4b75-a812-9f11bbd4a7c8
CALSCALE:GREGORIAN
METHOD:PUBLISH
X-WR-CALDESC:Feministisches Nachhaltiges Theater
X-WR-CALNAME:Wessen Wasser?
BEGIN:VEVENT
SUMMARY:Wessen Wasser?
DTSTART:20250927T193000
DTEND:20250927T210000
DTSTAMP:20260422T174936Z
UID:0f772475539033de9169863d2cbb499e
CATEGORIES:
URL:https://spore-initiative.org/de/programm-in-berlin/besuchen-und-mitmac
 hen/wessen-wasser
END:VEVENT
BEGIN:VEVENT
SUMMARY:Wessen Wasser?
DTSTART:20250926T193000
DTEND:20250926T210000
DTSTAMP:20260422T174936Z
UID:b3e047f6859e8f9b46264c034023cee3
CATEGORIES:
URL:https://spore-initiative.org/de/programm-in-berlin/besuchen-und-mitmac
 hen/wessen-wasser
END:VEVENT
END:VCALENDAR
