BEGIN:VCALENDAR
VERSION:2.0
PRODID:3d57c9fd-7519-4828-a0dd-b43e5c9a2c44
CALSCALE:GREGORIAN
METHOD:PUBLISH
X-WR-CALDESC:Ein kreativer Workshop für Kinder zwischen 6 und 10 Jahren.
X-WR-CALNAME:Der wundersame Weg
BEGIN:VEVENT
SUMMARY:Der wundersame Weg
DTSTART:20250821T163000
DTEND:20250821T183000
DTSTAMP:20260422T155726Z
UID:34d0845d835fa8bc209d088c610b6dfe
CATEGORIES:
URL:https://spore-initiative.org/de/programm-in-berlin/besuchen-und-mitmac
 hen/der-wundersame-weg
END:VEVENT
END:VCALENDAR
