BEGIN:VCALENDAR
VERSION:2.0
PRODID:da025c03-1df1-416d-a2c7-f38c09b47ee8
CALSCALE:GREGORIAN
METHOD:PUBLISH
X-WR-CALDESC:Listening Session
X-WR-CALNAME:SICK IN THE CITY Listening Session mit Chris Yohei Tokunaga
BEGIN:VEVENT
SUMMARY:SICK IN THE CITY Listening Session mit Chris Yohei Tokunaga
DTSTART:20250824T170000
DTEND:20250824T190000
DTSTAMP:20260422T181228Z
UID:c57a49526de1a0def561338f6af92a14
CATEGORIES:
URL:https://spore-initiative.org/de/programm-in-berlin/besuchen-und-mitmac
 hen/sick-in-the-city-listening-session-mit-chris-yohei-tokunaga
END:VEVENT
END:VCALENDAR
