BEGIN:VCALENDAR
VERSION:2.0
PRODID:9d0e2a40-838d-4d75-9c11-1df60beff715
CALSCALE:GREGORIAN
METHOD:PUBLISH
X-WR-CALDESC:Lesung
X-WR-CALNAME:Hinter (auf)geschlossenen Türen. Adultismus und kritisches E
 rwachsensein
BEGIN:VEVENT
SUMMARY:Hinter (auf)geschlossenen Türen. Adultismus und kritisches Erwach
 sensein
DTSTART:20250725T180000
DTEND:20250725T200000
DTSTAMP:20260422T195803Z
UID:138d5d79ff4d7df4c96d7e78806e55ac
CATEGORIES:
URL:https://spore-initiative.org/de/programm-in-berlin/besuchen-und-mitmac
 hen/hinter-aufgeschlossenen-turen-adultismus-und-kritisches-erwachsensein
END:VEVENT
END:VCALENDAR
