BEGIN:VCALENDAR
VERSION:2.0
PRODID:a97cf8cf-3584-45b6-8dec-ede0abc67746
CALSCALE:GREGORIAN
METHOD:PUBLISH
X-WR-CALDESC:Musik\, Begegnung und kulturelle Teilhabe
X-WR-CALNAME:Kurdish Music Collective Berlin
BEGIN:VEVENT
SUMMARY:Kurdish Music Collective Berlin
DTSTART:20251206T183000
DTEND:20251206T220000
DTSTAMP:20260422T194446Z
UID:e6a57636313d31449946c7db4736ba70
CATEGORIES:
URL:https://spore-initiative.org/de/programm-in-berlin/besuchen-und-mitmac
 hen/kurdish-music-collective-berlin
END:VEVENT
BEGIN:VEVENT
SUMMARY:Kurdish Music Collective Berlin
DTSTART:20251115T183000
DTEND:20251115T220000
DTSTAMP:20260422T194446Z
UID:a6e6ae4f198c8274785fb1ec2a8a1fb9
CATEGORIES:
URL:https://spore-initiative.org/de/programm-in-berlin/besuchen-und-mitmac
 hen/kurdish-music-collective-berlin
END:VEVENT
BEGIN:VEVENT
SUMMARY:Kurdish Music Collective Berlin
DTSTART:20251018T183000
DTEND:20251018T220000
DTSTAMP:20260422T194446Z
UID:03ac5f954067a04b97b9ae1b7b95ad81
CATEGORIES:
URL:https://spore-initiative.org/de/programm-in-berlin/besuchen-und-mitmac
 hen/kurdish-music-collective-berlin
END:VEVENT
BEGIN:VEVENT
SUMMARY:Kurdish Music Collective Berlin
DTSTART:20251004T110000
DTEND:20251004T150000
DTSTAMP:20260422T194446Z
UID:197914faec1c98d8f88c72a48550892a
CATEGORIES:
URL:https://spore-initiative.org/de/programm-in-berlin/besuchen-und-mitmac
 hen/kurdish-music-collective-berlin
END:VEVENT
BEGIN:VEVENT
SUMMARY:Kurdish Music Collective Berlin
DTSTART:20250920T183000
DTEND:20250920T220000
DTSTAMP:20260422T194446Z
UID:de207e1c47b16fca237d94acb04b176a
CATEGORIES:
URL:https://spore-initiative.org/de/programm-in-berlin/besuchen-und-mitmac
 hen/kurdish-music-collective-berlin
END:VEVENT
BEGIN:VEVENT
SUMMARY:Kurdish Music Collective Berlin
DTSTART:20250906T193000
DTEND:20250906T230000
DTSTAMP:20260422T194446Z
UID:0145b0df2807d059793a32917cb47fea
CATEGORIES:
URL:https://spore-initiative.org/de/programm-in-berlin/besuchen-und-mitmac
 hen/kurdish-music-collective-berlin
END:VEVENT
BEGIN:VEVENT
SUMMARY:Kurdish Music Collective Berlin
DTSTART:20250816T183000
DTEND:20250816T220000
DTSTAMP:20260422T194446Z
UID:0a4cc6d1453ab447629c68fcc82aaa4c
CATEGORIES:
URL:https://spore-initiative.org/de/programm-in-berlin/besuchen-und-mitmac
 hen/kurdish-music-collective-berlin
END:VEVENT
BEGIN:VEVENT
SUMMARY:Kurdish Music Collective Berlin
DTSTART:20250802T183000
DTEND:20250802T220000
DTSTAMP:20260422T194446Z
UID:15ebd7e7c1303fc204d4c9704c6b9fc3
CATEGORIES:
URL:https://spore-initiative.org/de/programm-in-berlin/besuchen-und-mitmac
 hen/kurdish-music-collective-berlin
END:VEVENT
END:VCALENDAR
