BEGIN:VCALENDAR
VERSION:2.0
PRODID:aa7b940e-6c8e-4a12-92e2-f40390f6f079
CALSCALE:GREGORIAN
METHOD:PUBLISH
X-WR-CALDESC:Über (un)mögliche Lösungsszenarien für Israel und Paläst
 ina
X-WR-CALNAME:Zeit zu Reden: Ein Staat für alle oder zwei Staaten nebenein
 ander?
BEGIN:VEVENT
SUMMARY:Zeit zu Reden: Ein Staat für alle oder zwei Staaten nebeneinander
 ?
DTSTART:20250625T190000
DTEND:20250625T220000
DTSTAMP:20260420T065407Z
UID:06c6da186b54a3fa097f532fc6c1b672
CATEGORIES:
URL:https://spore-initiative.org/de/programm-in-berlin/besuchen-und-mitmac
 hen/ein-staat-fur-alle-oder-zwei-staaten-nebeneinander
END:VEVENT
END:VCALENDAR
