BEGIN:VCALENDAR
VERSION:2.0
PRODID:371579c6-17bc-496e-a62b-3b2cf177d78d
CALSCALE:GREGORIAN
METHOD:PUBLISH
X-WR-CALDESC:Verein palästinensischer und jüdischer Akademiker*innen (PJ
 A) – Erste Jahreskonferenz
X-WR-CALNAME:UNIVERSITÄT UND SCHOLASTIZID: VON KOMPLIZENSCHAFT ZU SOLIDAR
 ITÄT
BEGIN:VEVENT
SUMMARY:UNIVERSITÄT UND SCHOLASTIZID: VON KOMPLIZENSCHAFT ZU SOLIDARITÄT
DTSTART:20250720T100000
DTEND:20250720T183000
DTSTAMP:20260423T162305Z
UID:5b20fce040fd1c117f87bb897c274fb8
CATEGORIES:
URL:https://spore-initiative.org/de/programm-in-berlin/besuchen-und-mitmac
 hen/universitat-und-scholasticide-von-KOMPLIZENSCHAFT-zu-solidaritat
END:VEVENT
END:VCALENDAR
