BEGIN:VCALENDAR
VERSION:2.0
PRODID:7f48b3b5-c117-4eb8-8238-7bde54116162
CALSCALE:GREGORIAN
METHOD:PUBLISH
X-WR-CALDESC:Von Samen\, Aromen und entwurzelten Erinnerungen
X-WR-CALNAME:Verbotene Landschaften
BEGIN:VEVENT
SUMMARY:Verbotene Landschaften
DTSTART:20250504T110000
DTEND:20250504T150000
DTSTAMP:20260423T175508Z
UID:70ff667002f040243e8c53d2c7e9fd65
CATEGORIES:
URL:https://spore-initiative.org/de/programm-in-berlin/besuchen-und-mitmac
 hen/verbotene-landschaften
END:VEVENT
END:VCALENDAR
