BEGIN:VCALENDAR
VERSION:2.0
PRODID:bd7039d8-75bb-416d-aaca-1c3d47904c4e
CALSCALE:GREGORIAN
METHOD:PUBLISH
X-WR-CALDESC:Eine kritische Diskussion über formelles Gedenken und multip
 erspektivisches Erkennen
X-WR-CALNAME:Zeit zu reden Erinnerungskultur (2): Was bedeutet „Nie wied
 er ist jetzt“?
BEGIN:VEVENT
SUMMARY:Zeit zu reden Erinnerungskultur (2): Was bedeutet „Nie wieder is
 t jetzt“?
DTSTART:20250523T190000
DTEND:20250523T223000
DTSTAMP:20260420T082652Z
UID:b7a65caee007c02ddc2ec5e4dfa3eab4
CATEGORIES:
URL:https://spore-initiative.org/de/programm-in-berlin/besuchen-und-mitmac
 hen/zeit-zu-reden-erinnerungskultur-2-was-bedeutet-nie-wieder-ist-jetzt
END:VEVENT
END:VCALENDAR
