BEGIN:VCALENDAR
VERSION:2.0
PRODID:4373f69c-7c3f-4262-82dd-9427ee223d76
CALSCALE:GREGORIAN
METHOD:PUBLISH
X-WR-CALDESC:Filmvorführung und gemeinsamer Austausch zum Abschluss der F
 ilmreihe
X-WR-CALNAME:Feuer des Windes
BEGIN:VEVENT
SUMMARY:Feuer des Windes
DTSTART:20250612T190000
DTEND:20250612T220000
DTSTAMP:20260422T111332Z
UID:ad5e3bb5a3ed248e79265407ee761e3c
CATEGORIES:
URL:https://spore-initiative.org/de/programm-in-berlin/besuchen-und-mitmac
 hen/feuer-des-windes
END:VEVENT
END:VCALENDAR
