BEGIN:VCALENDAR
VERSION:2.0
PRODID:d12c65db-ebf8-463d-b3f5-2e49b419a557
CALSCALE:GREGORIAN
METHOD:PUBLISH
X-WR-CALDESC:Filmvorführung und Gespräch mit den Filmemacher*innen
X-WR-CALNAME:Artenübergreifendes Zusammenleben
BEGIN:VEVENT
SUMMARY:Artenübergreifendes Zusammenleben
DTSTART:20250605T193000
DTEND:20250605T220000
DTSTAMP:20260422T110118Z
UID:dafd07cf60a91bff5d0db78daa193b1b
CATEGORIES:
URL:https://spore-initiative.org/de/programm-in-berlin/besuchen-und-mitmac
 hen/artenubergreifendes-zusammenleben
END:VEVENT
END:VCALENDAR
