BEGIN:VCALENDAR
VERSION:2.0
PRODID:0e9ff30b-7449-44ab-95ae-42801a79cd84
CALSCALE:GREGORIAN
METHOD:PUBLISH
X-WR-CALDESC:Film und Gespräch mit einem Beitrag von Tamara Uribe und Fel
 ipe Morgado\, Filmemacher*innen von Oasis.
X-WR-CALNAME:Fragmente aus Dissonanz und Resonanz
BEGIN:VEVENT
SUMMARY:Fragmente aus Dissonanz und Resonanz
DTSTART:20250529T190000
DTEND:20250529T220000
DTSTAMP:20260420T114109Z
UID:4bd72e4f57840f804ee70ae864163cad
CATEGORIES:
URL:https://spore-initiative.org/de/programm-in-berlin/besuchen-und-mitmac
 hen/fragmente-aus-dissonanz-und-resonanz
END:VEVENT
END:VCALENDAR
