BEGIN:VCALENDAR
VERSION:2.0
PRODID:10dd9cc6-3db8-4bbb-adc4-f941592333bc
CALSCALE:GREGORIAN
METHOD:PUBLISH
X-WR-CALDESC:Filmvorführung mit anschließendem Gespräch mit Barbara Mar
 cel\, Júlio do Carmo Gomes and Marco Araújo.
X-WR-CALNAME:Once There Were Commons
BEGIN:VEVENT
SUMMARY:Once There Were Commons
DTSTART:20250522T190000
DTEND:20250522T220000
DTSTAMP:20260420T114038Z
UID:2e9e26c65bae8d9f5cc45320d314f948
CATEGORIES:
URL:https://spore-initiative.org/de/programm-in-berlin/besuchen-und-mitmac
 hen/once-there-were-commons
END:VEVENT
END:VCALENDAR
