BEGIN:VCALENDAR
VERSION:2.0
PRODID:efb33093-dffd-4cc6-a54e-4f0de93ba66c
CALSCALE:GREGORIAN
METHOD:PUBLISH
X-WR-CALDESC:Filmvorführung und Gespräch mit Filmemacher Deniz Şimşek 
 und Nadjet Hamdi\, Repräsentantin von Polisario Front.
X-WR-CALNAME:Leuchtende\, ungezähmte Zeug*innen
BEGIN:VEVENT
SUMMARY:Leuchtende\, ungezähmte Zeug*innen
DTSTART:20250517T193000
DTEND:20250517T220000
DTSTAMP:20260420T113548Z
UID:e913ad8b9c644e2c4bfd5f7067d680f8
CATEGORIES:
URL:https://spore-initiative.org/de/programm-in-berlin/besuchen-und-mitmac
 hen/das-flustern-des-landes
END:VEVENT
END:VCALENDAR
