BEGIN:VCALENDAR
VERSION:2.0
PRODID:fef27524-0f20-456f-b213-27357a18c965
CALSCALE:GREGORIAN
METHOD:PUBLISH
X-WR-CALDESC:Eröffnung der Filmreihe mit den Kurator*innen Nafis Fatholla
 hzadeh & Sílvia das Fadas\, Filmvorführung und Gespräch mit Khadija Hab
 ashneh und Deepa Dhanraj.
X-WR-CALNAME:Die Wurzeln des Widerstands
BEGIN:VEVENT
SUMMARY:Die Wurzeln des Widerstands
DTSTART:20250508T183000
DTEND:20250508T220000
DTSTAMP:20260422T104714Z
UID:7480de28bf0098b2a795585d8913fb6e
CATEGORIES:
URL:https://spore-initiative.org/de/programm-in-berlin/besuchen-und-mitmac
 hen/die-wurzeln-des-widerstands
END:VEVENT
END:VCALENDAR
