BEGIN:VCALENDAR
VERSION:2.0
PRODID:7e7bbde4-00ab-4873-9efc-615304a00cf8
CALSCALE:GREGORIAN
METHOD:PUBLISH
X-WR-CALDESC:.
X-WR-CALNAME:Aveluk-Herstellung als künstlerische Praxis
BEGIN:VEVENT
SUMMARY:Aveluk-Herstellung als künstlerische Praxis
DTSTART:20250504T180000
DTEND:20250504T200000
DTSTAMP:20260420T100452Z
UID:ac9e1339862e2844c8cef30b78bb2679
CATEGORIES:
URL:https://spore-initiative.org/de/programm-in-berlin/besuchen-und-mitmac
 hen/aveluk-herstellung-als-kunstlerische-praxis
END:VEVENT
END:VCALENDAR
