BEGIN:VCALENDAR
VERSION:2.0
PRODID:111f5483-2df7-490e-af7d-ed043fd8c301
CALSCALE:GREGORIAN
METHOD:PUBLISH
X-WR-CALDESC:Vortrag\, Video\, kurze Musik\, Preisverleihung
X-WR-CALNAME:Preisverleihung für den Wettbewerb  kurdischer Geschichten
BEGIN:VEVENT
SUMMARY:Preisverleihung für den Wettbewerb  kurdischer Geschichten
DTSTART:20250518T150000
DTEND:20250518T213000
DTSTAMP:20260420T072304Z
UID:8de5d80f377aa9f5d7ce400a4b184d78
CATEGORIES:
URL:https://spore-initiative.org/de/programm-in-berlin/besuchen-und-mitmac
 hen/preisverleihung-fur-den-wettbewerb-kurdischer-geschichten
END:VEVENT
END:VCALENDAR
