BEGIN:VCALENDAR
VERSION:2.0
PRODID:3b8502e8-2ec6-45c3-a00b-b695924eda31
CALSCALE:GREGORIAN
METHOD:PUBLISH
X-WR-CALDESC:Hat die Natur Rechte? - Filmscreening und Gespräch
X-WR-CALNAME:Karuara. Die Menschen des Flusses
BEGIN:VEVENT
SUMMARY:Karuara. Die Menschen des Flusses
DTSTART:20250505T183000
DTEND:20250505T203000
DTSTAMP:20260420T113453Z
UID:f99c74a40e790a0c32e28377c10c0dad
CATEGORIES:
URL:https://spore-initiative.org/de/programm-in-berlin/besuchen-und-mitmac
 hen/karuara-die-menschen-des-flusses
END:VEVENT
END:VCALENDAR
