BEGIN:VCALENDAR
VERSION:2.0
PRODID:8c03624d-580f-4122-8096-b81dc4a95be1
CALSCALE:GREGORIAN
METHOD:PUBLISH
X-WR-CALDESC:Tanzworkshop mit Mohamad Freijeh\, offen für alle
X-WR-CALNAME:DABKE-SONNTAGE
BEGIN:VEVENT
SUMMARY:DABKE-SONNTAGE
DTSTART:20250803T173000
DTEND:20250803T200000
DTSTAMP:20260420T131122Z
UID:264e505e683317700e783630fe62da41
CATEGORIES:
URL:https://spore-initiative.org/de/programm-in-berlin/besuchen-und-mitmac
 hen/dabke-sonntage
END:VEVENT
BEGIN:VEVENT
SUMMARY:DABKE-SONNTAGE
DTSTART:20250713T183000
DTEND:20250713T210000
DTSTAMP:20260420T131122Z
UID:68c15ab2a18cd5a891b0224b7e796017
CATEGORIES:
URL:https://spore-initiative.org/de/programm-in-berlin/besuchen-und-mitmac
 hen/dabke-sonntage
END:VEVENT
BEGIN:VEVENT
SUMMARY:DABKE-SONNTAGE
DTSTART:20250607T173000
DTEND:20250607T200000
DTSTAMP:20260420T131122Z
UID:f30f69691e5a63ebf977cc2aad4accca
CATEGORIES:
URL:https://spore-initiative.org/de/programm-in-berlin/besuchen-und-mitmac
 hen/dabke-sonntage
END:VEVENT
BEGIN:VEVENT
SUMMARY:DABKE-SONNTAGE
DTSTART:20250504T173000
DTEND:20250504T200000
DTSTAMP:20260420T131122Z
UID:c25cc5df5d61654d8423fca132aa3bb0
CATEGORIES:
URL:https://spore-initiative.org/de/programm-in-berlin/besuchen-und-mitmac
 hen/dabke-sonntage
END:VEVENT
BEGIN:VEVENT
SUMMARY:DABKE-SONNTAGE
DTSTART:20250406T173000
DTEND:20250406T200000
DTSTAMP:20260420T131122Z
UID:e5a72354edd7930c75f04feac229fd6c
CATEGORIES:
URL:https://spore-initiative.org/de/programm-in-berlin/besuchen-und-mitmac
 hen/dabke-sonntage
END:VEVENT
END:VCALENDAR
