BEGIN:VCALENDAR
VERSION:2.0
PRODID:7a95ebe2-0174-4794-bbef-b9d1067b26ee
CALSCALE:GREGORIAN
METHOD:PUBLISH
X-WR-CALDESC:Buchpräsentation und Gespräch
X-WR-CALNAME:Wissen zu Race und Doing Racism: Die lange Geschichte des Ras
 sismus in der Bundesrepublik Deutschland.
BEGIN:VEVENT
SUMMARY:Wissen zu Race und Doing Racism: Die lange Geschichte des Rassismu
 s in der Bundesrepublik Deutschland.
DTSTART:20250402T193000
DTEND:20250402T210000
DTSTAMP:20260422T105153Z
UID:fae0db6546bd9de60ec072e722e589ef
CATEGORIES:
URL:https://spore-initiative.org/de/programm-in-berlin/besuchen-und-mitmac
 hen/wissen-zu-race-und-doing-racism-die-lange-geschichte-des-rassismus-in-
 der-bundesrepublik-deutschland
END:VEVENT
END:VCALENDAR
