BEGIN:VCALENDAR
VERSION:2.0
PRODID:1f57f33f-a6c7-4ba1-9bd2-3d1501e9096a
CALSCALE:GREGORIAN
METHOD:PUBLISH
X-WR-CALDESC:Solidarität\, Kriminalisierung politischen Aktivismus und Ge
 genstrategien
X-WR-CALNAME:Workshop für Migrant*innenwürde II
BEGIN:VEVENT
SUMMARY:Workshop für Migrant*innenwürde II
DTSTART:20250424T173000
DTEND:20250424T213000
DTSTAMP:20260422T174712Z
UID:30c765a89d2f3769d6c09c5143542d75
CATEGORIES:
URL:https://spore-initiative.org/de/programm-in-berlin/besuchen-und-mitmac
 hen/workshop-fur-migrantinnenwurde-ii
END:VEVENT
END:VCALENDAR
