BEGIN:VCALENDAR
VERSION:2.0
PRODID:a5fd46b7-c20b-477b-af7c-f566dcff35c6
CALSCALE:GREGORIAN
METHOD:PUBLISH
X-WR-CALDESC:Schreibwerkstatt für Spoken Word offen für Schwarze Mensche
 n und People of Color jeden schreibenden Alters.
X-WR-CALNAME:Being in Flow – Kreatives [dekolonisierendes] Schreiben
BEGIN:VEVENT
SUMMARY:Being in Flow – Kreatives [dekolonisierendes] Schreiben
DTSTART:20250406T100000
DTEND:20250406T160000
DTSTAMP:20260422T110118Z
UID:f0b3c80e2f25b0a00c8069ae861eea37
CATEGORIES:
URL:https://spore-initiative.org/de/programm-in-berlin/besuchen-und-mitmac
 hen/being-in-flow-kreatives-dekolonisierendes-schreiben-april
END:VEVENT
BEGIN:VEVENT
SUMMARY:Being in Flow – Kreatives [dekolonisierendes] Schreiben
DTSTART:20250406T180000
DTEND:20250406T193000
DTSTAMP:20260422T110118Z
UID:3b75e3a454e4a0840cae9acd3c880aff
CATEGORIES:
URL:https://spore-initiative.org/de/programm-in-berlin/besuchen-und-mitmac
 hen/being-in-flow-kreatives-dekolonisierendes-schreiben-april
END:VEVENT
BEGIN:VEVENT
SUMMARY:Being in Flow – Kreatives [dekolonisierendes] Schreiben
DTSTART:20250405T100000
DTEND:20250405T160000
DTSTAMP:20260422T110118Z
UID:18f9407cde903a3d060d082c8e9a5249
CATEGORIES:
URL:https://spore-initiative.org/de/programm-in-berlin/besuchen-und-mitmac
 hen/being-in-flow-kreatives-dekolonisierendes-schreiben-april
END:VEVENT
END:VCALENDAR
