BEGIN:VCALENDAR
VERSION:2.0
PRODID:f83cacab-8658-44e7-9287-1503e014fdfa
CALSCALE:GREGORIAN
METHOD:PUBLISH
X-WR-CALDESC:Ein Workshop mit Munira Khayyat basierend auf ihrem Buch Land
 schaften des Krieges
X-WR-CALNAME:Ökologien des Widerstandes und des Überlebens im Südlibano
 n
BEGIN:VEVENT
SUMMARY:Ökologien des Widerstandes und des Überlebens im Südlibanon
DTSTART:20250324T170000
DTEND:20250324T200000
DTSTAMP:20260422T104615Z
UID:93ee49870854b735c24e27841adcf0e8
CATEGORIES:
URL:https://spore-initiative.org/de/programm-in-berlin/besuchen-und-mitmac
 hen/okologien-des-widerstandes-und-des-uberlebens-im-sudlibanon
END:VEVENT
END:VCALENDAR
