BEGIN:VCALENDAR
VERSION:2.0
PRODID:a1fa9413-adc9-4d5b-b121-a3a579e08021
CALSCALE:GREGORIAN
METHOD:PUBLISH
X-WR-CALDESC:Paneldiskussion anlässlich der Veröffentlichung von Israels
  Heterotopie: Der Gazastreifen in der israelischen Politik und Kultur
X-WR-CALNAME:Spore Hosts: Gaza in Hebräischen Buchstaben
BEGIN:VEVENT
SUMMARY:Spore Hosts: Gaza in Hebräischen Buchstaben
DTSTART:20250320T193000
DTEND:20250320T211500
DTSTAMP:20260422T122902Z
UID:304158c47ff7d211d78ee5b482c8be42
CATEGORIES:
URL:https://spore-initiative.org/de/programm-in-berlin/besuchen-und-mitmac
 hen/spore-hosts-gaza-in-hebraischen-buchstaben
END:VEVENT
END:VCALENDAR
