BEGIN:VCALENDAR
VERSION:2.0
PRODID:2f8cd4b7-92c4-411c-afb1-0fe110af2ea1
CALSCALE:GREGORIAN
METHOD:PUBLISH
X-WR-CALDESC:Der Pilz am Ende der Welt: Über das Leben in den Ruinen des 
 Kapitalismus
X-WR-CALNAME:Offene Lesegruppe Februar
BEGIN:VEVENT
SUMMARY:Offene Lesegruppe Februar
DTSTART:20250327T170000
DTEND:20250327T190000
DTSTAMP:20260422T155655Z
UID:03118556fc4669b8f1de3ca95f3ea747
CATEGORIES:
URL:https://spore-initiative.org/de/programm-in-berlin/besuchen-und-mitmac
 hen/offene-lesegruppe-februar
END:VEVENT
BEGIN:VEVENT
SUMMARY:Offene Lesegruppe Februar
DTSTART:20250227T170000
DTEND:20250227T190000
DTSTAMP:20260422T155655Z
UID:6bf5c9b3b82938e07d585dd0a90d375e
CATEGORIES:
URL:https://spore-initiative.org/de/programm-in-berlin/besuchen-und-mitmac
 hen/offene-lesegruppe-februar
END:VEVENT
END:VCALENDAR
