BEGIN:VCALENDAR
VERSION:2.0
PRODID:fc2f9530-d9f7-4838-a73e-e9ce52ad33be
CALSCALE:GREGORIAN
METHOD:PUBLISH
X-WR-CALDESC:Geschichtenerzählen und Collage-Workshop inspiriert von Am F
 luss\, von Marc Martin
X-WR-CALNAME:Am Fluss
BEGIN:VEVENT
SUMMARY:Am Fluss
DTSTART:20250213T160000
DTEND:20250213T170000
DTSTAMP:20260422T155726Z
UID:6f77f837ab2b7b518209942055ddbb4b
CATEGORIES:
URL:https://spore-initiative.org/de/programm-in-berlin/besuchen-und-mitmac
 hen/am-fluss
END:VEVENT
END:VCALENDAR
