BEGIN:VCALENDAR
VERSION:2.0
PRODID:17f1eed2-8ceb-447a-8506-f75072f8c69c
CALSCALE:GREGORIAN
METHOD:PUBLISH
X-WR-CALDESC:Die erste öffentliche Präsentation des neu gegründeten Ver
 eins palästinensischer und jüdischer Akademiker*innen
X-WR-CALNAME:Spore Hosts: Öffentliche Vorstellung des Vereins palästinen
 sischer und jüdischer Akademiker*innen
BEGIN:VEVENT
SUMMARY:Spore Hosts: Öffentliche Vorstellung des Vereins palästinensisch
 er und jüdischer Akademiker*innen
DTSTART:20250201T183000
DTEND:20250201T203000
DTSTAMP:20260423T174602Z
UID:b2d826559d1f4d9c8cf569ca29f14c66
CATEGORIES:
URL:https://spore-initiative.org/de/programm-in-berlin/besuchen-und-mitmac
 hen/spore-hosts-offentliche-vorstellung-des-vereins-palastinensischer-und-
 judischer-akademikerinnen
END:VEVENT
END:VCALENDAR
